Package: mammaPrintData Version: 1.42.0 Command: /home/biocbuild/bbs-3.20-bioc/R/bin/R CMD check --install=check:mammaPrintData.install-out.txt --library=/home/biocbuild/bbs-3.20-bioc/R/site-library --timings mammaPrintData_1.42.0.tar.gz StartedAt: 2025-02-04 12:17:04 -0500 (Tue, 04 Feb 2025) EndedAt: 2025-02-04 12:18:13 -0500 (Tue, 04 Feb 2025) EllapsedTime: 69.2 seconds RetCode: 0 Status: OK CheckDir: mammaPrintData.Rcheck Warnings: 0