Package: methylclockData Version: 1.14.0 Command: /home/biocbuild/bbs-3.20-bioc/R/bin/R CMD build --keep-empty-dirs --no-resave-data methylclockData StartedAt: 2025-02-04 11:26:51 -0500 (Tue, 04 Feb 2025) EndedAt: 2025-02-04 11:28:14 -0500 (Tue, 04 Feb 2025) EllapsedTime: 82.7 seconds RetCode: 0 Status: OK PackageFile: methylclockData_1.14.0.tar.gz PackageFileSize: 230.8 KiB