Package: minfiDataEPIC Version: 1.32.0 Command: /home/biocbuild/bbs-3.20-bioc/R/bin/R CMD INSTALL minfiDataEPIC StartedAt: 2025-02-06 11:02:46 -0500 (Thu, 06 Feb 2025) EndedAt: 2025-02-06 11:03:31 -0500 (Thu, 06 Feb 2025) EllapsedTime: 45.2 seconds RetCode: 0 Status: OK