Package: msPurityData Version: 1.34.0 Command: /home/biocbuild/bbs-3.20-bioc/R/bin/R CMD INSTALL msPurityData StartedAt: 2025-02-04 10:55:22 -0500 (Tue, 04 Feb 2025) EndedAt: 2025-02-04 10:55:24 -0500 (Tue, 04 Feb 2025) EllapsedTime: 1.7 seconds RetCode: 0 Status: OK