Package: msdata Version: 0.46.0 Command: /home/biocbuild/bbs-3.20-bioc/R/bin/R CMD build --keep-empty-dirs --no-resave-data msdata StartedAt: 2025-02-04 11:28:20 -0500 (Tue, 04 Feb 2025) EndedAt: 2025-02-04 11:29:11 -0500 (Tue, 04 Feb 2025) EllapsedTime: 50.9 seconds RetCode: 0 Status: OK PackageFile: msdata_0.46.0.tar.gz PackageFileSize: 426.4 MiB