Package: multiWGCNAdata Version: 1.4.0 Command: /home/biocbuild/bbs-3.20-bioc/R/bin/R CMD build --keep-empty-dirs --no-resave-data multiWGCNAdata StartedAt: 2025-02-04 11:29:02 -0500 (Tue, 04 Feb 2025) EndedAt: 2025-02-04 11:29:28 -0500 (Tue, 04 Feb 2025) EllapsedTime: 26.0 seconds RetCode: 0 Status: OK PackageFile: multiWGCNAdata_1.4.0.tar.gz PackageFileSize: 221.2 KiB