Package: multiWGCNAdata Version: 1.4.0 Command: /home/biocbuild/bbs-3.20-bioc/R/bin/R CMD INSTALL multiWGCNAdata StartedAt: 2025-02-04 10:57:31 -0500 (Tue, 04 Feb 2025) EndedAt: 2025-02-04 10:57:40 -0500 (Tue, 04 Feb 2025) EllapsedTime: 9.0 seconds RetCode: 0 Status: OK