Package: mvoutData Version: 1.42.0 Command: /home/biocbuild/bbs-3.20-bioc/R/bin/R CMD check --install=check:mvoutData.install-out.txt --library=/home/biocbuild/bbs-3.20-bioc/R/site-library --timings mvoutData_1.42.0.tar.gz StartedAt: 2025-02-04 12:24:12 -0500 (Tue, 04 Feb 2025) EndedAt: 2025-02-04 12:26:34 -0500 (Tue, 04 Feb 2025) EllapsedTime: 142.3 seconds RetCode: 0 Status: OK CheckDir: mvoutData.Rcheck Warnings: 0