Package: mvoutData Version: 1.42.0 Command: /home/biocbuild/bbs-3.20-bioc/R/bin/R CMD INSTALL mvoutData StartedAt: 2025-02-04 11:04:08 -0500 (Tue, 04 Feb 2025) EndedAt: 2025-02-04 11:04:41 -0500 (Tue, 04 Feb 2025) EllapsedTime: 32.5 seconds RetCode: 0 Status: OK