Package: nanotubes Version: 1.22.0 Command: /home/biocbuild/bbs-3.20-bioc/R/bin/R CMD build --keep-empty-dirs --no-resave-data nanotubes StartedAt: 2025-02-06 11:29:23 -0500 (Thu, 06 Feb 2025) EndedAt: 2025-02-06 11:29:46 -0500 (Thu, 06 Feb 2025) EllapsedTime: 23.2 seconds RetCode: 0 Status: OK PackageFile: nanotubes_1.22.0.tar.gz PackageFileSize: 117.6 MiB