Package: nanotubes Version: 1.22.0 Command: /home/biocbuild/bbs-3.20-bioc/R/bin/R CMD INSTALL nanotubes StartedAt: 2025-02-04 10:55:14 -0500 (Tue, 04 Feb 2025) EndedAt: 2025-02-04 10:55:16 -0500 (Tue, 04 Feb 2025) EllapsedTime: 2.8 seconds RetCode: 0 Status: OK