Package: nullrangesData Version: 1.12.0 Maintainer: Michael Love MaintainerEmail: michaelisaiahlove at gmail.com git_url: https://git.bioconductor.org/packages/nullrangesData git_branch: RELEASE_3_20 git_last_commit: 74cc6a6 git_last_commit_date: 2024-10-29 09:53:21 -0500 (Tue, 29 Oct 2024)