Package: oct4 Version: 1.22.0 Command: /home/biocbuild/bbs-3.20-bioc/R/bin/R CMD build --keep-empty-dirs --no-resave-data oct4 StartedAt: 2025-02-04 11:30:00 -0500 (Tue, 04 Feb 2025) EndedAt: 2025-02-04 11:30:14 -0500 (Tue, 04 Feb 2025) EllapsedTime: 14.7 seconds RetCode: 0 Status: OK PackageFile: oct4_1.22.0.tar.gz PackageFileSize: 192.9 MiB