Package: orthosData Version: 1.4.0 Command: /home/biocbuild/bbs-3.20-bioc/R/bin/R CMD check --install=check:orthosData.install-out.txt --library=/home/biocbuild/bbs-3.20-bioc/R/site-library --timings orthosData_1.4.0.tar.gz StartedAt: 2025-02-04 12:26:44 -0500 (Tue, 04 Feb 2025) EndedAt: 2025-02-04 12:29:46 -0500 (Tue, 04 Feb 2025) EllapsedTime: 182.1 seconds RetCode: 0 Status: OK CheckDir: orthosData.Rcheck Warnings: 0