Package: parathyroidSE Version: 1.44.0 Command: /home/biocbuild/bbs-3.20-bioc/R/bin/R CMD check --install=check:parathyroidSE.install-out.txt --library=/home/biocbuild/bbs-3.20-bioc/R/site-library --timings parathyroidSE_1.44.0.tar.gz StartedAt: 2025-02-04 12:26:56 -0500 (Tue, 04 Feb 2025) EndedAt: 2025-02-04 12:28:17 -0500 (Tue, 04 Feb 2025) EllapsedTime: 81.3 seconds RetCode: 0 Status: OK CheckDir: parathyroidSE.Rcheck Warnings: 0