Package: pd.atdschip.tiling Version: 0.44.0 Command: /home/biocbuild/bbs-3.20-bioc/R/bin/R CMD INSTALL pd.atdschip.tiling StartedAt: 2025-02-04 11:00:54 -0500 (Tue, 04 Feb 2025) EndedAt: 2025-02-04 11:01:22 -0500 (Tue, 04 Feb 2025) EllapsedTime: 27.6 seconds RetCode: 0 Status: OK