Package: plotgardenerData
Version: 1.12.0
Command: /home/biocbuild/bbs-3.20-bioc/R/bin/R CMD check --install=check:plotgardenerData.install-out.txt --library=/home/biocbuild/bbs-3.20-bioc/R/site-library --timings plotgardenerData_1.12.0.tar.gz
StartedAt: 2025-02-13 12:28:35 -0500 (Thu, 13 Feb 2025)
EndedAt: 2025-02-13 12:28:54 -0500 (Thu, 13 Feb 2025)
EllapsedTime: 19.3 seconds
RetCode: 0
Status: WARNINGS
CheckDir: plotgardenerData.Rcheck
Warnings: 1