Package: prebsdata Version: 1.42.0 Maintainer: Karolis Uziela MaintainerEmail: karolis.uziela at scilifelab.se git_url: https://git.bioconductor.org/packages/prebsdata git_branch: RELEASE_3_20 git_last_commit: 53d1ffc git_last_commit_date: 2024-10-29 09:36:36 -0500 (Tue, 29 Oct 2024)