Package: preciseTADhub Version: 1.14.0 Command: /home/biocbuild/bbs-3.20-bioc/R/bin/R CMD build --keep-empty-dirs --no-resave-data preciseTADhub StartedAt: 2025-02-06 11:31:33 -0500 (Thu, 06 Feb 2025) EndedAt: 2025-02-06 11:33:08 -0500 (Thu, 06 Feb 2025) EllapsedTime: 95.8 seconds RetCode: 0 Status: OK PackageFile: preciseTADhub_1.14.0.tar.gz PackageFileSize: 228.6 KiB