Package: preciseTADhub Version: 1.14.0 Command: /home/biocbuild/bbs-3.20-bioc/R/bin/R CMD check --install=check:preciseTADhub.install-out.txt --library=/home/biocbuild/bbs-3.20-bioc/R/site-library --timings preciseTADhub_1.14.0.tar.gz StartedAt: 2025-02-06 12:28:22 -0500 (Thu, 06 Feb 2025) EndedAt: 2025-02-06 12:31:28 -0500 (Thu, 06 Feb 2025) EllapsedTime: 186.3 seconds RetCode: 0 Status: OK CheckDir: preciseTADhub.Rcheck Warnings: 0