Package: preciseTADhub Version: 1.14.0 Command: /home/biocbuild/bbs-3.20-bioc/R/bin/R CMD INSTALL preciseTADhub StartedAt: 2025-02-06 10:57:18 -0500 (Thu, 06 Feb 2025) EndedAt: 2025-02-06 10:57:30 -0500 (Thu, 06 Feb 2025) EllapsedTime: 12.6 seconds RetCode: 0 Status: OK