Package: prostateCancerCamcap Version: 1.34.0 Command: /home/biocbuild/bbs-3.20-bioc/R/bin/R CMD INSTALL prostateCancerCamcap StartedAt: 2025-02-04 10:56:07 -0500 (Tue, 04 Feb 2025) EndedAt: 2025-02-04 10:56:26 -0500 (Tue, 04 Feb 2025) EllapsedTime: 19.2 seconds RetCode: 0 Status: OK