Package: prostateCancerGrasso Version: 1.34.0 Command: /home/biocbuild/bbs-3.20-bioc/R/bin/R CMD build --keep-empty-dirs --no-resave-data prostateCancerGrasso StartedAt: 2025-02-04 11:31:50 -0500 (Tue, 04 Feb 2025) EndedAt: 2025-02-04 11:32:02 -0500 (Tue, 04 Feb 2025) EllapsedTime: 11.7 seconds RetCode: 0 Status: OK PackageFile: prostateCancerGrasso_1.34.0.tar.gz PackageFileSize: 25.25 MiB