Package: prostateCancerTaylor Version: 1.34.0 Command: /home/biocbuild/bbs-3.20-bioc/R/bin/R CMD build --keep-empty-dirs --no-resave-data prostateCancerTaylor StartedAt: 2025-02-04 11:31:51 -0500 (Tue, 04 Feb 2025) EndedAt: 2025-02-04 11:32:04 -0500 (Tue, 04 Feb 2025) EllapsedTime: 12.6 seconds RetCode: 0 Status: OK PackageFile: prostateCancerTaylor_1.34.0.tar.gz PackageFileSize: 25.77 MiB