Package: prostateCancerTaylor Version: 1.34.0 Command: /home/biocbuild/bbs-3.20-bioc/R/bin/R CMD INSTALL prostateCancerTaylor StartedAt: 2025-02-04 10:56:06 -0500 (Tue, 04 Feb 2025) EndedAt: 2025-02-04 10:56:15 -0500 (Tue, 04 Feb 2025) EllapsedTime: 9.5 seconds RetCode: 0 Status: OK