Package: prostateCancerVarambally
Version: 1.34.0
Maintainer: Mark Dunning
MaintainerEmail: mark.dunning at cruk.cam.ac.uk
git_url: https://git.bioconductor.org/packages/prostateCancerVarambally
git_branch: RELEASE_3_20
git_last_commit: 49a0b80
git_last_commit_date: 2024-10-29 09:44:57 -0500 (Tue, 29 Oct 2024)