Package: qPLEXdata Version: 1.24.0 Command: /home/biocbuild/bbs-3.20-bioc/R/bin/R CMD check --install=check:qPLEXdata.install-out.txt --library=/home/biocbuild/bbs-3.20-bioc/R/site-library --timings qPLEXdata_1.24.0.tar.gz StartedAt: 2025-02-04 12:29:57 -0500 (Tue, 04 Feb 2025) EndedAt: 2025-02-04 12:34:25 -0500 (Tue, 04 Feb 2025) EllapsedTime: 268.1 seconds RetCode: 0 Status: WARNINGS CheckDir: qPLEXdata.Rcheck Warnings: 1