Package: rcellminerData Version: 2.28.0 Command: /home/biocbuild/bbs-3.20-bioc/R/bin/R CMD build --keep-empty-dirs --no-resave-data rcellminerData StartedAt: 2025-02-06 11:32:31 -0500 (Thu, 06 Feb 2025) EndedAt: 2025-02-06 11:36:51 -0500 (Thu, 06 Feb 2025) EllapsedTime: 260.6 seconds RetCode: 0 Status: OK PackageFile: rcellminerData_2.28.0.tar.gz PackageFileSize: 371.6 MiB