Package: rcellminerData Version: 2.28.0 Command: /home/biocbuild/bbs-3.20-bioc/R/bin/R CMD check --install=check:rcellminerData.install-out.txt --library=/home/biocbuild/bbs-3.20-bioc/R/site-library --timings rcellminerData_2.28.0.tar.gz StartedAt: 2025-02-06 12:29:50 -0500 (Thu, 06 Feb 2025) EndedAt: 2025-02-06 12:33:41 -0500 (Thu, 06 Feb 2025) EllapsedTime: 231.3 seconds RetCode: 0 Status: WARNINGS CheckDir: rcellminerData.Rcheck Warnings: 2