Package: rcellminerData Version: 2.28.0 Command: /home/biocbuild/bbs-3.20-bioc/R/bin/R CMD INSTALL rcellminerData StartedAt: 2025-02-06 10:56:09 -0500 (Thu, 06 Feb 2025) EndedAt: 2025-02-06 10:56:39 -0500 (Thu, 06 Feb 2025) EllapsedTime: 30.7 seconds RetCode: 0 Status: OK