Package: sampleClassifierData Version: 1.30.0 Maintainer: Khadija El Amrani MaintainerEmail: khadija.el-amrani at charite.de git_url: https://git.bioconductor.org/packages/sampleClassifierData git_branch: RELEASE_3_20 git_last_commit: 47a4db3 git_last_commit_date: 2024-10-29 09:51:51 -0500 (Tue, 29 Oct 2024)