Package: sampleClassifierData Version: 1.30.0 Command: /home/biocbuild/bbs-3.20-bioc/R/bin/R CMD check --install=check:sampleClassifierData.install-out.txt --library=/home/biocbuild/bbs-3.20-bioc/R/site-library --timings sampleClassifierData_1.30.0.tar.gz StartedAt: 2025-02-11 12:38:31 -0500 (Tue, 11 Feb 2025) EndedAt: 2025-02-11 12:40:03 -0500 (Tue, 11 Feb 2025) EllapsedTime: 92.0 seconds RetCode: 0 Status: OK CheckDir: sampleClassifierData.Rcheck Warnings: 0