Package: scATAC.Explorer Version: 1.12.1 Command: /home/biocbuild/bbs-3.20-bioc/R/bin/R CMD check --install=check:scATAC.Explorer.install-out.txt --library=/home/biocbuild/bbs-3.20-bioc/R/site-library --timings scATAC.Explorer_1.12.1.tar.gz StartedAt: 2025-02-04 12:36:48 -0500 (Tue, 04 Feb 2025) EndedAt: 2025-02-04 13:09:00 -0500 (Tue, 04 Feb 2025) EllapsedTime: 1932.4 seconds RetCode: 0 Status: OK CheckDir: scATAC.Explorer.Rcheck Warnings: 0