Package: scMultiome Version: 1.6.0 Command: /home/biocbuild/bbs-3.20-bioc/R/bin/R CMD check --install=check:scMultiome.install-out.txt --library=/home/biocbuild/bbs-3.20-bioc/R/site-library --timings scMultiome_1.6.0.tar.gz StartedAt: 2025-02-04 12:37:11 -0500 (Tue, 04 Feb 2025) EndedAt: 2025-02-04 12:41:26 -0500 (Tue, 04 Feb 2025) EllapsedTime: 255.0 seconds RetCode: 0 Status: OK CheckDir: scMultiome.Rcheck Warnings: 0