Package: scTHI.data Version: 1.18.0 Command: /home/biocbuild/bbs-3.20-bioc/R/bin/R CMD check --install=check:scTHI.data.install-out.txt --library=/home/biocbuild/bbs-3.20-bioc/R/site-library --timings scTHI.data_1.18.0.tar.gz StartedAt: 2025-02-04 12:37:33 -0500 (Tue, 04 Feb 2025) EndedAt: 2025-02-04 12:38:09 -0500 (Tue, 04 Feb 2025) EllapsedTime: 36.4 seconds RetCode: 0 Status: OK CheckDir: scTHI.data.Rcheck Warnings: 0