Package: scTHI.data Version: 1.18.0 Command: /home/biocbuild/bbs-3.20-bioc/R/bin/R CMD INSTALL scTHI.data StartedAt: 2025-02-04 10:55:20 -0500 (Tue, 04 Feb 2025) EndedAt: 2025-02-04 10:55:28 -0500 (Tue, 04 Feb 2025) EllapsedTime: 7.2 seconds RetCode: 0 Status: OK