Package: scaeData Version: 1.2.0 Command: /home/biocbuild/bbs-3.20-bioc/R/bin/R CMD build --keep-empty-dirs --no-resave-data scaeData StartedAt: 2025-02-04 11:35:17 -0500 (Tue, 04 Feb 2025) EndedAt: 2025-02-04 11:38:16 -0500 (Tue, 04 Feb 2025) EllapsedTime: 178.7 seconds RetCode: 0 Status: OK PackageFile: scaeData_1.2.0.tar.gz PackageFileSize: 300.9 KiB