Package: scaeData Version: 1.2.0 Command: /home/biocbuild/bbs-3.20-bioc/R/bin/R CMD check --install=check:scaeData.install-out.txt --library=/home/biocbuild/bbs-3.20-bioc/R/site-library --timings scaeData_1.2.0.tar.gz StartedAt: 2025-02-04 12:36:23 -0500 (Tue, 04 Feb 2025) EndedAt: 2025-02-04 12:40:43 -0500 (Tue, 04 Feb 2025) EllapsedTime: 259.5 seconds RetCode: 0 Status: OK CheckDir: scaeData.Rcheck Warnings: 0