Package: scanMiRData Version: 1.12.0 Command: /home/biocbuild/bbs-3.20-bioc/R/bin/R CMD build --keep-empty-dirs --no-resave-data scanMiRData StartedAt: 2025-02-04 11:35:30 -0500 (Tue, 04 Feb 2025) EndedAt: 2025-02-04 11:35:56 -0500 (Tue, 04 Feb 2025) EllapsedTime: 26.3 seconds RetCode: 0 Status: OK PackageFile: scanMiRData_1.12.0.tar.gz PackageFileSize: 16.14 MiB