Package: seqc Version: 1.40.0 Command: /home/biocbuild/bbs-3.20-bioc/R/bin/R CMD build --keep-empty-dirs --no-resave-data seqc StartedAt: 2025-02-04 11:36:23 -0500 (Tue, 04 Feb 2025) EndedAt: 2025-02-04 11:38:28 -0500 (Tue, 04 Feb 2025) EllapsedTime: 124.6 seconds RetCode: 0 Status: OK PackageFile: seqc_1.40.0.tar.gz PackageFileSize: 179.1 MiB