Package: seqc Version: 1.40.0 Command: /home/biocbuild/bbs-3.20-bioc/R/bin/R CMD check --install=check:seqc.install-out.txt --library=/home/biocbuild/bbs-3.20-bioc/R/site-library --timings seqc_1.40.0.tar.gz StartedAt: 2025-02-04 12:37:52 -0500 (Tue, 04 Feb 2025) EndedAt: 2025-02-04 12:39:05 -0500 (Tue, 04 Feb 2025) EllapsedTime: 72.4 seconds RetCode: 0 Status: WARNINGS CheckDir: seqc.Rcheck Warnings: 1