Package: serumStimulation Version: 1.42.0 Command: /home/biocbuild/bbs-3.20-bioc/R/bin/R CMD build --keep-empty-dirs --no-resave-data serumStimulation StartedAt: 2025-02-04 11:36:44 -0500 (Tue, 04 Feb 2025) EndedAt: 2025-02-04 11:36:45 -0500 (Tue, 04 Feb 2025) EllapsedTime: 1.0 seconds RetCode: 0 Status: OK PackageFile: serumStimulation_1.42.0.tar.gz PackageFileSize: 4.041 MiB