Package: serumStimulation Version: 1.42.0 Command: /home/biocbuild/bbs-3.20-bioc/R/bin/R CMD check --install=check:serumStimulation.install-out.txt --library=/home/biocbuild/bbs-3.20-bioc/R/site-library --timings serumStimulation_1.42.0.tar.gz StartedAt: 2025-02-04 12:38:04 -0500 (Tue, 04 Feb 2025) EndedAt: 2025-02-04 12:38:15 -0500 (Tue, 04 Feb 2025) EllapsedTime: 11.1 seconds RetCode: 0 Status: OK CheckDir: serumStimulation.Rcheck Warnings: 0