Package: sesameData Version: 1.24.0 Command: /home/biocbuild/bbs-3.20-bioc/R/bin/R CMD build --keep-empty-dirs --no-resave-data sesameData StartedAt: 2025-02-04 11:36:45 -0500 (Tue, 04 Feb 2025) EndedAt: 2025-02-04 11:37:18 -0500 (Tue, 04 Feb 2025) EllapsedTime: 32.9 seconds RetCode: 0 Status: OK PackageFile: sesameData_1.24.0.tar.gz PackageFileSize: 1.882 MiB