Package: smokingMouse Version: 1.4.0 Command: /home/biocbuild/bbs-3.20-bioc/R/bin/R CMD check --install=check:smokingMouse.install-out.txt --library=/home/biocbuild/bbs-3.20-bioc/R/site-library --timings smokingMouse_1.4.0.tar.gz StartedAt: 2025-02-04 12:39:16 -0500 (Tue, 04 Feb 2025) EndedAt: 2025-02-04 12:40:03 -0500 (Tue, 04 Feb 2025) EllapsedTime: 46.9 seconds RetCode: 0 Status: OK CheckDir: smokingMouse.Rcheck Warnings: 0