Package: spatialLIBD Version: 1.18.0 Command: /home/biocbuild/bbs-3.20-bioc/R/bin/R CMD INSTALL spatialLIBD StartedAt: 2025-02-06 11:03:02 -0500 (Thu, 06 Feb 2025) EndedAt: 2025-02-06 11:03:46 -0500 (Thu, 06 Feb 2025) EllapsedTime: 44.1 seconds RetCode: 0 Status: OK