Package: stemHypoxia Version: 1.42.0 Command: /home/biocbuild/bbs-3.20-bioc/R/bin/R CMD build --keep-empty-dirs --no-resave-data stemHypoxia StartedAt: 2025-02-04 11:38:03 -0500 (Tue, 04 Feb 2025) EndedAt: 2025-02-04 11:38:04 -0500 (Tue, 04 Feb 2025) EllapsedTime: 1.3 seconds RetCode: 0 Status: OK PackageFile: stemHypoxia_1.42.0.tar.gz PackageFileSize: 2.773 MiB