Package: tinesath1probe Version: 1.44.0 Command: /home/biocbuild/bbs-3.20-bioc/R/bin/R CMD build --keep-empty-dirs --no-resave-data tinesath1probe StartedAt: 2025-02-20 11:42:04 -0500 (Thu, 20 Feb 2025) EndedAt: 2025-02-20 11:42:06 -0500 (Thu, 20 Feb 2025) EllapsedTime: 2.0 seconds RetCode: 0 Status: OK PackageFile: tinesath1probe_1.44.0.tar.gz PackageFileSize: 3.037 <A href="http://en.wikipedia.org/wiki/MiB" target="_blank">MiB</A>