Package: tinesath1probe Version: 1.44.0 Command: /home/biocbuild/bbs-3.20-bioc/R/bin/R CMD INSTALL tinesath1probe StartedAt: 2025-02-04 10:56:41 -0500 (Tue, 04 Feb 2025) EndedAt: 2025-02-04 10:56:49 -0500 (Tue, 04 Feb 2025) EllapsedTime: 7.8 seconds RetCode: 0 Status: OK