Package: tofsimsData Version: 1.34.0 Command: /home/biocbuild/bbs-3.20-bioc/R/bin/R CMD check --install=check:tofsimsData.install-out.txt --library=/home/biocbuild/bbs-3.20-bioc/R/site-library --timings tofsimsData_1.34.0.tar.gz StartedAt: 2025-01-30 12:50:16 -0500 (Thu, 30 Jan 2025) EndedAt: 2025-01-30 12:50:30 -0500 (Thu, 30 Jan 2025) EllapsedTime: 14.6 seconds RetCode: 0 Status: WARNINGS CheckDir: tofsimsData.Rcheck Warnings: 1